BEGIN:VCALENDAR
VERSION:2.0
PRODID:-//Temple Of Peace Maui - ECPv6.15.20//NONSGML v1.0//EN
CALSCALE:GREGORIAN
METHOD:PUBLISH
X-ORIGINAL-URL:https://templeofpeacemaui.com
X-WR-CALDESC:Events for Temple Of Peace Maui
REFRESH-INTERVAL;VALUE=DURATION:PT1H
X-Robots-Tag:noindex
X-PUBLISHED-TTL:PT1H
BEGIN:VTIMEZONE
TZID:Pacific/Honolulu
BEGIN:STANDARD
TZOFFSETFROM:-1000
TZOFFSETTO:-1000
TZNAME:HST
DTSTART:20250101T000000
END:STANDARD
END:VTIMEZONE
BEGIN:VEVENT
DTSTART;TZID=Pacific/Honolulu:20260221T180000
DTEND;TZID=Pacific/Honolulu:20260221T210000
DTSTAMP:20260421T084809
CREATED:20260129T013710Z
LAST-MODIFIED:20260204T003142Z
UID:10002272-1771696800-1771707600@templeofpeacemaui.com
SUMMARY:Embodied Flow With Sophia Rayne\, Fredo Smiles and Special Guests
DESCRIPTION:Sophia Rayne’s music is a fusion of different genres\, including pop\, soul\, and RnB\, with spiritual elements. Her lyrics are introspective and poetic\, with a strong emphasis on self-discovery\, spirituality\, and love. Her voice is soulful and emotive\, conveying a wide range of emotions from vulnerability\, strength and empowerment.\nSophia’s music has been praised for its authenticity and emotional depth\, with critics lauding her ability to connect with listeners through her lyrics and vocal performance. \nPopWrapped raves\, “Sophia Rayne’s music is a breath of fresh air…it’s impossible not to feel something when listening to her songs.” \nhttps://www.sophiarayne.net \nSpotify:\nhttps://open.spotify.com/artist/49jbdB53LJr05LjbBxknRl?si=tdk6jg1mRt–PoOg83qBDg \nInstagram:\nhttps://www.instagram.com/sophiarayneofficial?igsh=MWN2a3BvNjFic2kzdw== \nFacebook:\nhttps://www.facebook.com/share/1GKg2Bm2UV/?mibextid=wwXIfr \nFredo Smiles \nSongwriter\, DJ and Producer\, Fredo Smiles\, brings a fresh perspective on Hip Hop and Bass Music. Originally from Chicago\, he creates a balance of Dark & Light in his work; Each song a diary of expanded consciousness through grit and real life experience. A pioneer for Songwriting in Electronic Music\, he weaves emotions and storytelling throughout his DJ sets\, while performing vocal tracks to bring it all together. His Ecstatic Dance sets are a fun\, uplifting walkthrough of different genres as he curates a full spectrum experience of Rhyme and Bass. \nSpotify:\nhttps://open.spotify.com/playlist/0n4X2fd7rDLQi8zHLBHAKj?si=1f52c838d16048d7 \nInstagram\nhttps://www.instagram.com/fredosmilesmusicc/ \nFacebook\nhttps://www.facebook.com/profile.php?id=100080463292156 \nEcstatic Dance Set\nhttps://on.soundcloud.com/o9kSgi0urTWsQbRCnH
URL:https://templeofpeacemaui.com/event/embodied-flow-with-sophia-rayne-fredo-smiles-and-special-guests/
LOCATION:Temple Of Peace\, 575 Haiku Rd.\, Haiku\, HI\, 96708\, United States
ATTACH;FMTTYPE=image/png:https://templeofpeacemaui.com/wp-content/uploads/2026/01/221.png
END:VEVENT
END:VCALENDAR