BEGIN:VCALENDAR
VERSION:2.0
PRODID:-//Temple Of Peace Maui - ECPv6.15.20//NONSGML v1.0//EN
CALSCALE:GREGORIAN
METHOD:PUBLISH
X-WR-CALNAME:Temple Of Peace Maui
X-ORIGINAL-URL:https://templeofpeacemaui.com
X-WR-CALDESC:Events for Temple Of Peace Maui
REFRESH-INTERVAL;VALUE=DURATION:PT1H
X-Robots-Tag:noindex
X-PUBLISHED-TTL:PT1H
BEGIN:VTIMEZONE
TZID:Pacific/Honolulu
BEGIN:STANDARD
TZOFFSETFROM:-1000
TZOFFSETTO:-1000
TZNAME:HST
DTSTART:20250101T000000
END:STANDARD
END:VTIMEZONE
BEGIN:VEVENT
DTSTART;TZID=Pacific/Honolulu:20260401T183000
DTEND;TZID=Pacific/Honolulu:20260401T203000
DTSTAMP:20260420T094655
CREATED:20250403T034055Z
LAST-MODIFIED:20250604T221823Z
UID:10001698-1775068200-1775075400@templeofpeacemaui.com
SUMMARY:Wednesday Night Kirtan & Vegetarian Love-Feast
DESCRIPTION:Come experience the joy of sacred chants\, connection\, and nourishment for the soul every Wednesday as we come together for two hours of honoring Krishna\, followed by a delicious community prasad. Free and open to all. \nWednesday Night Kirtan & Vegetarian Love-Feast: A Divine Journey at the Temple of Peace Experience the soul-stirring serenity of Wednesday night Kirtan at the Temple of Peace\, where spiritual seekers and devotees come together for an enchanting evening of Bhakti Yoga Chanting. Every Wednesday\, from 6:30pm to 9:30 pm\, our temple doors open to all who seek to cultivate a deep connection with their inner selves and the divine through the practice of love and devotion. \nKirtan\, the ancient art of devotional chanting\, is the heart and soul of our Wednesday night gatherings. Led by experienced and passionate spiritual leaders\, our Kirtan sessions offer a transcendental journey into the realm of sacred music. As we join our voices and hearts in harmony\, the atmosphere becomes filled with an irresistible spiritual energy\, drawing participants into a state of profound meditation and bliss. This sacred practice provides a unique opportunity to connect with the divine through the power of sound and devotion. Following the uplifting and heartwarming Kirtan\, we invite you to join us for a sumptuous vegetarian love feast. Our community believes in the sanctity of every life and the nourishment of both body and soul. The love feast is a celebration of this philosophy\, where you can savor a delicious array of vegetarian dishes prepared with love and care. It’s not just a meal; it’s a symbol of the unity\, compassion\, and fellowship that make our community a nurturing and welcoming space for all. \nWhether you are a seasoned practitioner of Bhakti Yoga or a curious newcomer\, our Wednesday night Kirtan at the Temple of Peace welcomes you with open arms. Come and immerse yourself in the sacred vibrations of devotional chanting and share in the warmth and camaraderie of our vegetarian love feast. It’s an evening where love\, devotion\, and unity converge to create an unforgettable spiritual experience. We look forward to sharing this transformative journey with you every Wednesday from 6:30 pm to 9:30 pm.
URL:https://templeofpeacemaui.com/event/wednesday-night-kirtan-2-2/2026-04-01/
LOCATION:Temple Of Peace\, 575 Haiku Rd.\, Haiku\, HI\, 96708\, United States
ATTACH;FMTTYPE=image/jpeg:https://templeofpeacemaui.com/wp-content/uploads/2025/04/IMG_8972-scaled.jpeg
END:VEVENT
END:VCALENDAR